BEGIN:VCALENDAR
VERSION:2.0
PRODID:-//jEvents 2.0 for Joomla//EN
CALSCALE:GREGORIAN
METHOD:PUBLISH
BEGIN:VEVENT
UID:0e56b65ce3b2e33986019af737219bb7
CATEGORIES:Gemeindehaus
CREATED:20260301T200840
SUMMARY:Theater
LOCATION:Gemeindehalle
DESCRIPTION:
DTSTAMP:20260426T024339
DTSTART;VALUE=DATE:20261121
DTEND;VALUE=DATE:20261122
SEQUENCE:0
TRANSP:OPAQUE
END:VEVENT
END:VCALENDAR