BEGIN:VCALENDAR
VERSION:2.0
PRODID:-//jEvents 2.0 for Joomla//EN
CALSCALE:GREGORIAN
METHOD:PUBLISH
BEGIN:VEVENT
UID:32cc8529eb24aac99a91f53f9847c45a
CATEGORIES:Gemeindehaus
CREATED:20260301T194958
SUMMARY:Musikverein
LOCATION:Gemeindehalle
DESCRIPTION:
CONTACT:Frank Schmitt
DTSTAMP:20260425T124940
DTSTART:20260424T173000
DTEND:20260424T200000
SEQUENCE:0
TRANSP:OPAQUE
END:VEVENT
END:VCALENDAR