BEGIN:VCALENDAR
VERSION:2.0
PRODID:-//jEvents 2.0 for Joomla//EN
CALSCALE:GREGORIAN
METHOD:PUBLISH
BEGIN:VEVENT
UID:e53c8c9b0909fd762e506bab55eed0df
CATEGORIES:Gemeindehaus
CREATED:20260301T194856
SUMMARY:Jumping
LOCATION:Gemeindehalle
DESCRIPTION:
CONTACT:Jule Junglas
DTSTAMP:20260425T153927
DTSTART:20260508T140000
DTEND:20260508T170000
SEQUENCE:0
TRANSP:OPAQUE
END:VEVENT
END:VCALENDAR