BEGIN:VCALENDAR
VERSION:2.0
PRODID:-//jEvents 2.0 for Joomla//EN
CALSCALE:GREGORIAN
METHOD:PUBLISH
BEGIN:VEVENT
UID:a7b5c8bc5aa73fb036dbd6ee17379da9
CATEGORIES:Gemeindehaus
CREATED:20260301T194755
SUMMARY:Kindergarten
LOCATION:Gemeindehalle
DESCRIPTION:
CONTACT:Bettina Marx-Schwall
DTSTAMP:20260425T102613
DTSTART:20260402T080000
DTEND:20260402T093000
SEQUENCE:0
TRANSP:OPAQUE
END:VEVENT
END:VCALENDAR