BEGIN:VCALENDAR
VERSION:2.0
PRODID:-//jEvents 2.0 for Joomla//EN
CALSCALE:GREGORIAN
METHOD:PUBLISH
BEGIN:VEVENT
UID:605d384ce7ad000c653d8f0f92975aed
CATEGORIES:Gemeindehaus
CREATED:20260301T194510
SUMMARY:Musikverein
LOCATION:Gemeindehalle Sitzungssaal
DESCRIPTION:
CONTACT:Frank Schmitt
DTSTAMP:20260425T161409
DTSTART:20260312T140000
DTEND:20260312T183000
SEQUENCE:0
TRANSP:OPAQUE
END:VEVENT
END:VCALENDAR