BEGIN:VCALENDAR
VERSION:2.0
PRODID:-//jEvents 2.0 for Joomla//EN
CALSCALE:GREGORIAN
METHOD:PUBLISH
BEGIN:VEVENT
UID:ebca3fbe620c69b1e338797ce3fd5cdb
CATEGORIES:Gemeindehaus
CREATED:20260301T194335
SUMMARY:Tischtennis
LOCATION:Gemeindehalle
DESCRIPTION:
CONTACT:Peter Schlaf
DTSTAMP:20260425T141445
DTSTART:20260416T130000
DTEND:20260416T180000
SEQUENCE:0
TRANSP:OPAQUE
END:VEVENT
END:VCALENDAR