BEGIN:VCALENDAR
VERSION:2.0
PRODID:-//jEvents 2.0 for Joomla//EN
CALSCALE:GREGORIAN
METHOD:PUBLISH
BEGIN:VEVENT
UID:ebca3fbe620c69b1e338797ce3fd5cdb
CATEGORIES:Gemeindehaus
CREATED:20260301T194335
SUMMARY:Tischtennis
LOCATION:Gemeindehalle
DESCRIPTION:
CONTACT:Peter Schlaf
DTSTAMP:20260426T032315
DTSTART:20260312T140000
DTEND:20260312T190000
SEQUENCE:0
TRANSP:OPAQUE
END:VEVENT
END:VCALENDAR