BEGIN:VCALENDAR
VERSION:2.0
PRODID:-//jEvents 2.0 for Joomla//EN
CALSCALE:GREGORIAN
METHOD:PUBLISH
BEGIN:VEVENT
UID:19ab1ad1ff1f9ba40bb8969a1c098638
CATEGORIES:Gemeindehaus
CREATED:20260301T193535
SUMMARY:Spielenachmittag
LOCATION:Gemeindehalle
DESCRIPTION:
CONTACT:Elisabeth Hermes
DTSTAMP:20260426T023417
DTSTART:20260506T123000
DTEND:20260506T153000
SEQUENCE:0
TRANSP:OPAQUE
END:VEVENT
END:VCALENDAR