BEGIN:VCALENDAR
VERSION:2.0
PRODID:-//jEvents 2.0 for Joomla//EN
CALSCALE:GREGORIAN
METHOD:PUBLISH
BEGIN:VEVENT
UID:27fdcfa1f20d153e9fa4f8b7ec895996
CATEGORIES:Gemeindehaus
CREATED:20260301T193249
SUMMARY:Tischtennis
LOCATION:Gemeindehalle
DESCRIPTION:
CONTACT:Peter Schlaf
DTSTAMP:20260425T153911
DTSTART:20260428T170000
DTEND:20260428T190000
SEQUENCE:0
TRANSP:OPAQUE
END:VEVENT
END:VCALENDAR