BEGIN:VCALENDAR
VERSION:2.0
PRODID:-//jEvents 2.0 for Joomla//EN
CALSCALE:GREGORIAN
METHOD:PUBLISH
BEGIN:VEVENT
UID:5b22bf0670458bdef89eca6a1093373d
CATEGORIES:Gemeindehaus
CREATED:20260301T193148
SUMMARY:Zumba
LOCATION:Gemeindehalle
DESCRIPTION:
CONTACT:Silke Irmiter
DTSTAMP:20260425T102525
DTSTART:20260428T160000
DTEND:20260428T170000
SEQUENCE:0
TRANSP:OPAQUE
END:VEVENT
END:VCALENDAR