BEGIN:VCALENDAR
VERSION:2.0
PRODID:-//jEvents 2.0 for Joomla//EN
CALSCALE:GREGORIAN
METHOD:PUBLISH
BEGIN:VEVENT
UID:21a7780cb1ed92934e630145ae61211a
CATEGORIES:Gemeindehaus
CREATED:20260301T193040
SUMMARY:Kinderturnen
LOCATION:Gemeindehalle
DESCRIPTION:
CONTACT:Lea Weber
DTSTAMP:20260425T203039
DTSTART:20260331T143000
DTEND:20260331T153000
SEQUENCE:0
TRANSP:OPAQUE
END:VEVENT
END:VCALENDAR