BEGIN:VCALENDAR
VERSION:2.0
PRODID:-//jEvents 2.0 for Joomla//EN
CALSCALE:GREGORIAN
METHOD:PUBLISH
BEGIN:VEVENT
UID:21a7780cb1ed92934e630145ae61211a
CATEGORIES:Gemeindehaus
CREATED:20260301T193040
SUMMARY:Kinderturnen
LOCATION:Gemeindehalle
DESCRIPTION:
CONTACT:Lea Weber
DTSTAMP:20260425T161404
DTSTART:20260317T153000
DTEND:20260317T163000
SEQUENCE:0
TRANSP:OPAQUE
END:VEVENT
END:VCALENDAR