BEGIN:VCALENDAR
VERSION:2.0
PRODID:-//jEvents 2.0 for Joomla//EN
CALSCALE:GREGORIAN
METHOD:PUBLISH
BEGIN:VEVENT
UID:6a0e8198e2465084395d1d4db108d47e
CATEGORIES:Gemeindehaus
CREATED:20260301T192811
SUMMARY:Kinderturnen
LOCATION:Gemeindehalle
DESCRIPTION:
CONTACT:Anne Schlaf
DTSTAMP:20260426T014626
DTSTART:20260317T143000
DTEND:20260317T153000
SEQUENCE:0
TRANSP:OPAQUE
END:VEVENT
END:VCALENDAR