BEGIN:VCALENDAR
VERSION:2.0
PRODID:-//jEvents 2.0 for Joomla//EN
CALSCALE:GREGORIAN
METHOD:PUBLISH
BEGIN:VEVENT
UID:1934eefa76f5d26e63377351f5765179
CATEGORIES:Gemeindehaus
CREATED:20260301T192619
SUMMARY:Seniorenturnen
LOCATION:Gemeindehalle
DESCRIPTION:
CONTACT:Inge Johann
DTSTAMP:20260425T161345
DTSTART:20260505T080000
DTEND:20260505T100000
SEQUENCE:0
TRANSP:OPAQUE
END:VEVENT
END:VCALENDAR