BEGIN:VCALENDAR
VERSION:2.0
PRODID:-//jEvents 2.0 for Joomla//EN
CALSCALE:GREGORIAN
METHOD:PUBLISH
BEGIN:VEVENT
UID:469a4b5076addc3fb0b23c6571dd8d29
CATEGORIES:Gemeindehaus
CREATED:20260301T192409
SUMMARY:Frauenturnen
LOCATION:Gemeindehalle
DESCRIPTION:
CONTACT:Helga Schlaf
DTSTAMP:20260425T111432
DTSTART:20260420T170000
DTEND:20260420T190000
SEQUENCE:0
TRANSP:OPAQUE
END:VEVENT
END:VCALENDAR