BEGIN:VCALENDAR
VERSION:2.0
PRODID:-//jEvents 2.0 for Joomla//EN
CALSCALE:GREGORIAN
METHOD:PUBLISH
BEGIN:VEVENT
UID:9b271f11838101a89c79c76355518ffd
CATEGORIES:Gemeindehaus
CREATED:20260208T151409
SUMMARY:Kirchenchor
LOCATION:Gemeindehalle
DESCRIPTION:
CONTACT:Andrea Krämer
DTSTAMP:20260425T145911
DTSTART:20260415T170000
DTEND:20260415T190000
SEQUENCE:0
TRANSP:OPAQUE
END:VEVENT
END:VCALENDAR