BEGIN:VCALENDAR
VERSION:2.0
PRODID:-//jEvents 2.0 for Joomla//EN
CALSCALE:GREGORIAN
METHOD:PUBLISH
BEGIN:VEVENT
UID:802e9ae3f890d5cb1ce0a14dc1057f61
CATEGORIES:Gemeindehaus
CREATED:20260420T075555
SUMMARY:Sitzungsraum und Küche
DESCRIPTION:
X-EXTRAINFO:Private Feier Sitzungsraum und Küche
DTSTAMP:20260425T193625
DTSTART:20260430T060000
SEQUENCE:0
TRANSP:OPAQUE
END:VEVENT
END:VCALENDAR