BEGIN:VCALENDAR
VERSION:2.0
PRODID:-//jEvents 2.0 for Joomla//EN
CALSCALE:GREGORIAN
METHOD:PUBLISH
BEGIN:VEVENT
UID:436d9dd41d122d17d9e44b684651587c
CATEGORIES:Schutzhütte
CREATED:20260405T180927
SUMMARY:Kindergarten Schutzhütte
DESCRIPTION:
X-EXTRAINFO:Kindergarten ist die ganze Woche in der Schutzhütte
DTSTAMP:20260425T205925
DTSTART:20260505T060000
SEQUENCE:0
TRANSP:OPAQUE
END:VEVENT
END:VCALENDAR