BEGIN:VCALENDAR
VERSION:2.0
PRODID:-//jEvents 2.0 for Joomla//EN
CALSCALE:GREGORIAN
METHOD:PUBLISH
BEGIN:VEVENT
UID:b72578fdfc5173930d9b86654b30bff3
CATEGORIES:Schutzhütte
CREATED:20260405T180547
SUMMARY:Kindergarten Schutzhütte
DESCRIPTION:
DTSTAMP:20260425T234007
DTSTART:20260504T060000
SEQUENCE:0
TRANSP:OPAQUE
END:VEVENT
END:VCALENDAR