BEGIN:VCALENDAR
VERSION:2.0
PRODID:-//jEvents 2.0 for Joomla//EN
CALSCALE:GREGORIAN
METHOD:PUBLISH
BEGIN:VEVENT
UID:2eeeb1c4b5cdefc436fef8b03ca27999
CATEGORIES:Gemeindehaus
CREATED:20260405T175820
SUMMARY:Geburtstagsfeier Reinhold Ring
DESCRIPTION:
CONTACT:Reinhold Ring
X-EXTRAINFO:2/ der Halle
DTSTAMP:20260425T193627
DTSTART:20260418T060000
SEQUENCE:0
TRANSP:OPAQUE
END:VEVENT
END:VCALENDAR