BEGIN:VCALENDAR
VERSION:2.0
PRODID:-//jEvents 2.0 for Joomla//EN
CALSCALE:GREGORIAN
METHOD:PUBLISH
BEGIN:VEVENT
UID:f2bd0a190a2dcff5c80a9a3c98566b78
CATEGORIES:Gemeindehaus
CREATED:20260403T074335
SUMMARY:Beerdigungskaffee Maria Weber
DESCRIPTION:
DTSTAMP:20260425T193628
DTSTART:20260411T060000
SEQUENCE:0
TRANSP:OPAQUE
END:VEVENT
END:VCALENDAR