BEGIN:VCALENDAR
VERSION:2.0
PRODID:-//jEvents 2.0 for Joomla//EN
CALSCALE:GREGORIAN
METHOD:PUBLISH
BEGIN:VEVENT
UID:24e180ab3b3fa4dacfbda4773b799822
CATEGORIES:Gemeindehaus
CREATED:20260301T201317
SUMMARY:Weihnachtskonzert Musikverein
DESCRIPTION:
DTSTAMP:20260425T210726
DTSTART;VALUE=DATE:20261220
DTEND;VALUE=DATE:20261221
SEQUENCE:0
TRANSP:OPAQUE
END:VEVENT
END:VCALENDAR