BEGIN:VCALENDAR
VERSION:2.0
PRODID:-//jEvents 2.0 for Joomla//EN
CALSCALE:GREGORIAN
METHOD:PUBLISH
BEGIN:VEVENT
UID:e4906d10e20725396df2b12af47a3f55
CATEGORIES:Gemeindehaus
CREATED:20260301T201220
SUMMARY:TSG-Fest
LOCATION:Gemeindehalle
DESCRIPTION:
DTSTAMP:20260426T041133
DTSTART;VALUE=DATE:20261223
DTEND;VALUE=DATE:20261224
SEQUENCE:0
TRANSP:OPAQUE
END:VEVENT
END:VCALENDAR