BEGIN:VCALENDAR
VERSION:2.0
PRODID:-//jEvents 2.0 for Joomla//EN
CALSCALE:GREGORIAN
METHOD:PUBLISH
BEGIN:VEVENT
UID:59fbffb86e193eca55d4118d9ba5b93c
CATEGORIES:Gemeindehaus
CREATED:20260301T201136
SUMMARY:Seniorentag
LOCATION:Gemeindehalle
DESCRIPTION:
DTSTAMP:20260426T011936
DTSTART;VALUE=DATE:20261212
DTEND;VALUE=DATE:20261213
SEQUENCE:0
TRANSP:OPAQUE
END:VEVENT
END:VCALENDAR