BEGIN:VCALENDAR
VERSION:2.0
PRODID:-//jEvents 2.0 for Joomla//EN
CALSCALE:GREGORIAN
METHOD:PUBLISH
BEGIN:VEVENT
UID:ce31481cc0b81fc4ccbafd88acda787e
CATEGORIES:Gemeindehaus
CREATED:20260301T200523
SUMMARY:Buchausstellung
LOCATION:Gemeindehalle
DESCRIPTION:
DTSTAMP:20260426T054947
DTSTART;VALUE=DATE:20261025
DTEND;VALUE=DATE:20261026
SEQUENCE:0
TRANSP:OPAQUE
END:VEVENT
END:VCALENDAR