BEGIN:VCALENDAR
VERSION:2.0
PRODID:-//jEvents 2.0 for Joomla//EN
CALSCALE:GREGORIAN
METHOD:PUBLISH
BEGIN:VEVENT
UID:ef8142972ec16d3695e9bcca49044855
CATEGORIES:Gemeindehaus
CREATED:20260301T195906
SUMMARY:Landtagswahl
LOCATION:Gemeindehalle
DESCRIPTION:
DTSTAMP:20260426T030141
DTSTART;VALUE=DATE:20260322
DTEND;VALUE=DATE:20260323
SEQUENCE:0
TRANSP:OPAQUE
END:VEVENT
END:VCALENDAR