BEGIN:VCALENDAR
VERSION:2.0
PRODID:-//jEvents 2.0 for Joomla//EN
CALSCALE:GREGORIAN
METHOD:PUBLISH
BEGIN:VEVENT
UID:a1cfbc8770fc8f892bb8cb84eec626f7
CATEGORIES:Gemeindehaus
CREATED:20260301T195825
SUMMARY:Konzert Theaterverein
LOCATION:Gemeindehalle
DESCRIPTION:
DTSTAMP:20260425T211231
DTSTART;VALUE=DATE:20260321
DTEND;VALUE=DATE:20260322
SEQUENCE:0
TRANSP:OPAQUE
END:VEVENT
END:VCALENDAR