BEGIN:VCALENDAR
VERSION:2.0
PRODID:-//jEvents 2.0 for Joomla//EN
CALSCALE:GREGORIAN
METHOD:PUBLISH
BEGIN:VEVENT
UID:bd164bdf000dc8da8a23bd107e77789a
CATEGORIES:Gemeindehaus
CREATED:19700101T010000
SUMMARY:Tambourverein 
LOCATION:Gemeindehalle
DESCRIPTION:
CONTACT:Helmut Johann
DTSTAMP:20260426T010945
DTSTART:20260312T190000
DTEND:20260312T210000
SEQUENCE:0
RRULE:FREQ=MONTHLY;UNTIL=20270101T000000Z;INTERVAL=1;BYDAY=+2TH
TRANSP:OPAQUE
END:VEVENT
BEGIN:VEVENT
UID:bd164bdf000dc8da8a23bd107e77789a
CATEGORIES:Gemeindehaus
CREATED:20260301T181851
SUMMARY:Tambourverein 
LOCATION:Gemeindehalle
DESCRIPTION:
URL;VALUE=URI:https://kalender-kaifenheim.kaisersesch.de/index.php/eventdetail/6011/-/tam
 bourverein?tmpl=component
CONTACT:Helmut Johann

DTSTAMP:20260426T010945
DTSTART:20260521T180000
DTEND:20260521T200000
RECURRENCE-ID:20260514T180000
SEQUENCE:0
TRANSP:OPAQUE
END:VEVENT
END:VCALENDAR