BEGIN:VCALENDAR
VERSION:2.0
PRODID:-//jEvents 2.0 for Joomla//EN
CALSCALE:GREGORIAN
METHOD:PUBLISH
BEGIN:VEVENT
UID:32cc8529eb24aac99a91f53f9847c45a
CATEGORIES:Gemeindehaus
CREATED:19700101T010000
SUMMARY:Musikverein
LOCATION:Gemeindehalle
DESCRIPTION:
CONTACT:Frank Schmitt
DTSTAMP:20260425T141750
DTSTART:20260306T183000
DTEND:20260306T210000
SEQUENCE:0
RRULE:FREQ=WEEKLY;UNTIL=20270101T000000Z;INTERVAL=1;BYDAY=FR
EXDATE:20261225T183000,20261106T183000,20260501T173000,20260403T173000
TRANSP:OPAQUE
END:VEVENT
END:VCALENDAR