BEGIN:VCALENDAR
VERSION:2.0
PRODID:-//jEvents 2.0 for Joomla//EN
CALSCALE:GREGORIAN
METHOD:PUBLISH
BEGIN:VEVENT
UID:e53c8c9b0909fd762e506bab55eed0df
CATEGORIES:Gemeindehaus
CREATED:19700101T010000
SUMMARY:Jumping
LOCATION:Gemeindehalle
DESCRIPTION:
CONTACT:Jule Junglas
DTSTAMP:20260425T122946
DTSTART:20260306T150000
DTEND:20260306T180000
SEQUENCE:0
RRULE:FREQ=WEEKLY;UNTIL=20270101T000000Z;INTERVAL=1;BYDAY=FR
EXDATE:20261225T150000,20261106T150000,20260501T140000,20260403T140000
TRANSP:OPAQUE
END:VEVENT
END:VCALENDAR