BEGIN:VCALENDAR
VERSION:2.0
PRODID:-//jEvents 2.0 for Joomla//EN
CALSCALE:GREGORIAN
METHOD:PUBLISH
BEGIN:VEVENT
UID:a7b5c8bc5aa73fb036dbd6ee17379da9
CATEGORIES:Gemeindehaus
CREATED:19700101T010000
SUMMARY:Kindergarten
LOCATION:Gemeindehalle
DESCRIPTION:
CONTACT:Bettina Marx-Schwall
DTSTAMP:20260425T152311
DTSTART:20260305T090000
DTEND:20260305T103000
SEQUENCE:0
RRULE:FREQ=WEEKLY;UNTIL=20270101T000000Z;INTERVAL=1;BYDAY=TH
EXDATE:20261224T090000,20260514T080000
TRANSP:OPAQUE
END:VEVENT
END:VCALENDAR