BEGIN:VCALENDAR
VERSION:2.0
PRODID:-//jEvents 2.0 for Joomla//EN
CALSCALE:GREGORIAN
METHOD:PUBLISH
BEGIN:VEVENT
UID:605d384ce7ad000c653d8f0f92975aed
CATEGORIES:Gemeindehaus
CREATED:19700101T010000
SUMMARY:Musikverein
LOCATION:Gemeindehalle Sitzungssaal
DESCRIPTION:
CONTACT:Frank Schmitt
DTSTAMP:20260425T153826
DTSTART:20260305T140000
DTEND:20260305T183000
SEQUENCE:0
RRULE:FREQ=WEEKLY;UNTIL=20270101T000000Z;INTERVAL=1;BYDAY=TH
EXDATE:20261224T140000,20260514T130000
TRANSP:OPAQUE
END:VEVENT
END:VCALENDAR