BEGIN:VCALENDAR
VERSION:2.0
PRODID:-//jEvents 2.0 for Joomla//EN
CALSCALE:GREGORIAN
METHOD:PUBLISH
BEGIN:VEVENT
UID:ebca3fbe620c69b1e338797ce3fd5cdb
CATEGORIES:Gemeindehaus
CREATED:19700101T010000
SUMMARY:Tischtennis
LOCATION:Gemeindehalle
DESCRIPTION:
CONTACT:Peter Schlaf
DTSTAMP:20260425T111443
DTSTART:20260305T140000
DTEND:20260305T190000
SEQUENCE:0
RRULE:FREQ=WEEKLY;UNTIL=20270101T000000Z;INTERVAL=1;BYDAY=TH
EXDATE:20261224T140000,20260514T130000
TRANSP:OPAQUE
END:VEVENT
END:VCALENDAR