BEGIN:VCALENDAR
VERSION:2.0
PRODID:-//jEvents 2.0 for Joomla//EN
CALSCALE:GREGORIAN
METHOD:PUBLISH
BEGIN:VEVENT
UID:19ab1ad1ff1f9ba40bb8969a1c098638
CATEGORIES:Gemeindehaus
CREATED:19700101T010000
SUMMARY:Spielenachmittag
LOCATION:Gemeindehalle
DESCRIPTION:
CONTACT:Elisabeth Hermes
DTSTAMP:20260425T175835
DTSTART:20260304T133000
DTEND:20260304T163000
SEQUENCE:0
RRULE:FREQ=MONTHLY;UNTIL=20270101T000000Z;INTERVAL=1;BYDAY=+1WE
TRANSP:OPAQUE
END:VEVENT
END:VCALENDAR