BEGIN:VCALENDAR
VERSION:2.0
PRODID:-//jEvents 2.0 for Joomla//EN
CALSCALE:GREGORIAN
METHOD:PUBLISH
BEGIN:VEVENT
UID:27fdcfa1f20d153e9fa4f8b7ec895996
CATEGORIES:Gemeindehaus
CREATED:19700101T010000
SUMMARY:Tischtennis
LOCATION:Gemeindehalle
DESCRIPTION:
CONTACT:Peter Schlaf
DTSTAMP:20260425T153936
DTSTART:20260303T180000
DTEND:20260303T200000
SEQUENCE:0
RRULE:FREQ=WEEKLY;UNTIL=20270101T000000Z;INTERVAL=1;BYDAY=TU
TRANSP:OPAQUE
END:VEVENT
END:VCALENDAR