BEGIN:VCALENDAR
VERSION:2.0
PRODID:-//jEvents 2.0 for Joomla//EN
CALSCALE:GREGORIAN
METHOD:PUBLISH
BEGIN:VEVENT
UID:5b22bf0670458bdef89eca6a1093373d
CATEGORIES:Gemeindehaus
CREATED:19700101T010000
SUMMARY:Zumba
LOCATION:Gemeindehalle
DESCRIPTION:
CONTACT:Silke Irmiter
DTSTAMP:20260425T111341
DTSTART:20260303T170000
DTEND:20260303T180000
SEQUENCE:0
RRULE:FREQ=WEEKLY;UNTIL=20270101T000000Z;INTERVAL=1;BYDAY=TU
TRANSP:OPAQUE
END:VEVENT
END:VCALENDAR