BEGIN:VCALENDAR
VERSION:2.0
PRODID:-//jEvents 2.0 for Joomla//EN
CALSCALE:GREGORIAN
METHOD:PUBLISH
BEGIN:VEVENT
UID:21a7780cb1ed92934e630145ae61211a
CATEGORIES:Gemeindehaus
CREATED:19700101T010000
SUMMARY:Kinderturnen
LOCATION:Gemeindehalle
DESCRIPTION:
CONTACT:Lea Weber
DTSTAMP:20260425T221814
DTSTART:20260303T153000
DTEND:20260303T163000
SEQUENCE:0
RRULE:FREQ=WEEKLY;UNTIL=20270101T000000Z;INTERVAL=1;BYDAY=TU
TRANSP:OPAQUE
END:VEVENT
END:VCALENDAR