BEGIN:VCALENDAR
VERSION:2.0
PRODID:-//jEvents 2.0 for Joomla//EN
CALSCALE:GREGORIAN
METHOD:PUBLISH
BEGIN:VEVENT
UID:6a0e8198e2465084395d1d4db108d47e
CATEGORIES:Gemeindehaus
CREATED:19700101T010000
SUMMARY:Kinderturnen
LOCATION:Gemeindehalle
DESCRIPTION:
CONTACT:Anne Schlaf
DTSTAMP:20260425T203558
DTSTART:20260303T143000
DTEND:20260303T153000
SEQUENCE:0
RRULE:FREQ=WEEKLY;UNTIL=20270101T000000Z;INTERVAL=1;BYDAY=TU
TRANSP:OPAQUE
END:VEVENT
END:VCALENDAR