BEGIN:VCALENDAR
VERSION:2.0
PRODID:-//jEvents 2.0 for Joomla//EN
CALSCALE:GREGORIAN
METHOD:PUBLISH
BEGIN:VEVENT
UID:1934eefa76f5d26e63377351f5765179
CATEGORIES:Gemeindehaus
CREATED:19700101T010000
SUMMARY:Seniorenturnen
LOCATION:Gemeindehalle
DESCRIPTION:
CONTACT:Inge Johann
DTSTAMP:20260425T141830
DTSTART:20260303T090000
DTEND:20260303T110000
SEQUENCE:0
RRULE:FREQ=WEEKLY;UNTIL=20270101T000000Z;INTERVAL=1;BYDAY=TU
TRANSP:OPAQUE
END:VEVENT
END:VCALENDAR