BEGIN:VCALENDAR
VERSION:2.0
PRODID:-//jEvents 2.0 for Joomla//EN
CALSCALE:GREGORIAN
METHOD:PUBLISH
BEGIN:VEVENT
UID:469a4b5076addc3fb0b23c6571dd8d29
CATEGORIES:Gemeindehaus
CREATED:19700101T010000
SUMMARY:Frauenturnen
LOCATION:Gemeindehalle
DESCRIPTION:
CONTACT:Helga Schlaf
DTSTAMP:20260425T111409
DTSTART:20260302T180000
DTEND:20260302T200000
SEQUENCE:0
RRULE:FREQ=WEEKLY;UNTIL=20270101T000000Z;INTERVAL=1;BYDAY=MO
EXDATE:20260914T170000,20260406T170000,20260525T170000
TRANSP:OPAQUE
END:VEVENT
END:VCALENDAR