BEGIN:VCALENDAR
VERSION:2.0
PRODID:-//jEvents 2.0 for Joomla//EN
CALSCALE:GREGORIAN
METHOD:PUBLISH
BEGIN:VEVENT
UID:9b271f11838101a89c79c76355518ffd
CATEGORIES:Gemeindehaus
CREATED:19700101T010000
SUMMARY:Kirchenchor
LOCATION:Gemeindehalle
DESCRIPTION:
CONTACT:Andrea Krämer
DTSTAMP:20260425T111413
DTSTART:20260304T180000
DTEND:20260304T200000
SEQUENCE:0
RRULE:FREQ=WEEKLY;UNTIL=20270101T000000Z;INTERVAL=1;BYDAY=WE
TRANSP:OPAQUE
END:VEVENT
END:VCALENDAR