BEGIN:VCALENDAR
VERSION:2.0
PRODID:-//jEvents 2.0 for Joomla//EN
CALSCALE:GREGORIAN
METHOD:PUBLISH
BEGIN:VEVENT
UID:7ebde0ece25f0c6ef700982e6968ab0d
CATEGORIES:Gemeindehaus
CREATED:20260203T175553
SUMMARY:Karnevalsumzug Kaifenheim
LOCATION:Kaifenheim
DESCRIPTION:Großer Karnevalsumzug in Kaifenheim anschl buntes Narrentreiben in der Geme
 indehalle\n
X-ALT-DESC;FMTTYPE=text/html:<p>Großer Karnevalsumzug in Kaifenheim anschl buntes Narrentreiben in der G
 emeindehalle</p>
CONTACT:Festgemeinschaft Kaifenheim
DTSTAMP:20260425T164119
DTSTART:20260214T070000
SEQUENCE:0
TRANSP:OPAQUE
END:VEVENT
END:VCALENDAR