BEGIN:VCALENDAR
VERSION:2.0
PRODID:-//jEvents 2.0 for Joomla//EN
CALSCALE:GREGORIAN
METHOD:PUBLISH
BEGIN:VEVENT
UID:2d01558b8a3c6f4e5d806940bca16b1c
CATEGORIES:Gemeindehaus
CREATED:20260203T175311
SUMMARY:Weiberfastnacht in der Gremeindehalle 
LOCATION:Kaifenheim
DESCRIPTION:Weiberfastnacht in der Gemeindehalle\n
X-ALT-DESC;FMTTYPE=text/html:<p>Weiberfastnacht in der Gemeindehalle</p>
CONTACT:Möhnenverein Kaifenheim 56761 Kaifenheim
X-EXTRAINFO:Möhnenfrühstück in der Gemeindehalle 
DTSTAMP:20260425T172334
DTSTART;VALUE=DATE:20260212
DTEND;VALUE=DATE:20260213
SEQUENCE:0
TRANSP:OPAQUE
END:VEVENT
END:VCALENDAR