BEGIN:VCALENDAR
VERSION:2.0
PRODID:-//jEvents 2.0 for Joomla//EN
CALSCALE:GREGORIAN
METHOD:PUBLISH
BEGIN:VEVENT
UID:a620c446c5829d4b3b0e616884ea40f0
CATEGORIES:Gemeindehaus
CREATED:20260203T174732
SUMMARY:Seniorenfastnacht
DESCRIPTION:<p>Seniorenfastnacht ab 14.00 Uhr Gemeidehallen</p>
DTSTAMP:20260425T222829
DTSTART:20260207T110000
SEQUENCE:0
TRANSP:OPAQUE
END:VEVENT
END:VCALENDAR